BEGIN:VCALENDAR
VERSION:2.0
METHOD:PUBLISH
PRODID:-//Virginia Tech//VT Calendar//EN
BEGIN:VEVENT
DTSTAMP:20200804T040000Z
UID:1594151497392-0051@events.msu.edu
CATEGORIES:Student Events
DTSTART;VALUE=DATE:20200804
DTEND;VALUE=DATE:20200805
SUMMARY:2020 Virtual Summer of Service Challenge
DESCRIPTION:
 Join the 2020 Virtual Summer of Service Challenge 
 today to earn service hours, engage in a 
 variety of service projects, get involved in 
 different communities, earn awards and have fun!\n\n
 Price: free\n
 Sponsor: Administration\n
 Sponsor's Homepage: http://events.msu.edu/\n
 for more info visit the web at:\n 
 https://calendar.cal.msu.edu/?ai1ec_event=2020-virtual-summer-of-service-challenge&instance_id=5136\n
END:VEVENT
END:VCALENDAR
