BEGIN:VCALENDAR
VERSION:2.0
METHOD:PUBLISH
PRODID:-//Virginia Tech//VT Calendar//EN
BEGIN:VEVENT
DTSTAMP:20200730T183000Z
UID:1594214632064@events.msu.edu
CATEGORIES:Conferences / Seminars / Lectures
DTSTART:20200730T183000Z
DTEND:20200730T193000Z
SUMMARY:Math Seminar Series
DESCRIPTION:
 The speaker of this webinar is Mary Wooters from 
 Stanford University. The title is "Sparse 
 Recovery for Orthogonal Polynomial Transforms." 
 This is a part of One World MINDS seminar 
 - view the schedule at https://sites.google.com/view/minds-seminar/home.\n
 \n
 \n\n
 Price: free\n
 Sponsor: Department of Mathematics\n
 Sponsor's Homepage: https://www.math.msu.edu/\n
 Contact name: Department of Mathematics\n
 Contact phone: (517) 353-0844\n
 for more info visit the web at:\n 
 https://www.math.msu.edu/Seminars/CalendarView.aspx?month-of=September2016\n
LOCATION:Online
END:VEVENT
END:VCALENDAR
