BEGIN:VCALENDAR
VERSION:2.0
METHOD:PUBLISH
PRODID:-//Virginia Tech//VT Calendar//EN
BEGIN:VEVENT
DTSTAMP:20200923T233000Z
UID:1596562231698-0004@events.msu.edu
CATEGORIES:Conferences / Seminars / Lectures
DTSTART:20200923T233000Z
DTEND:20200924T010000Z
SUMMARY:Guiding Principles for Highly Successful Parenting Webinar Series
DESCRIPTION:
 Guiding Principles for Highly Successful Parenting 
 is a parenting series to help you explore 
 ways that you can be highly effective in raising 
 your kids to be successful in school and 
 in life. Topics of this webinar include developing 
 family routines, being a calm, assertive 
 parent and more.\n\n
 Price: free\n
 Sponsor: Administration\n
 Sponsor's Homepage: http://events.msu.edu/\n
 for more info visit the web at:\n 
 https://rb.gy/rj3vlo\n
END:VEVENT
END:VCALENDAR
