BEGIN:VCALENDAR
VERSION:2.0
METHOD:PUBLISH
PRODID:-//Virginia Tech//VT Calendar//EN
BEGIN:VEVENT
DTSTAMP:20200910T193000Z
UID:1597336779879@events.msu.edu
CATEGORIES:Conferences / Seminars / Lectures
DTSTART:20200910T193000Z
DTEND:20200911T035900Z
SUMMARY:Ecology, Evolutionary Biology and Behavior Seminar
DESCRIPTION:
 Seminar hosted by MSU's Ecology, Evolutionary 
 Biology and Behavior Program.\n
 \n
 "Town Hall Meeting: 
 The Future of EEBB" is lead by Elise 
 Zipkin as a part of EEBB's Future Initiatives.\n\n
 Price: free\n
 Sponsor: EEBB Program\n
 Sponsor's Homepage: http://eebb.msu.edu/\n
 Contact name: EEBB Office\n
 Contact phone: (517) 432-1359\n
 Contact email: eebb@msu.edu\n
 for more info visit the web at:\n 
 https://eebb.msu.edu/seminars2015.php\n
LOCATION:118 Eppley Center
END:VEVENT
END:VCALENDAR
