BEGIN:VCALENDAR
VERSION:2.0
METHOD:PUBLISH
PRODID:-//Virginia Tech//VT Calendar//EN
BEGIN:VEVENT
DTSTAMP:20201118T170000Z
UID:1597424531399@events.msu.edu
CATEGORIES:Special Events
DTSTART:20201118T170000Z
DTEND:20201118T180000Z
SUMMARY:MSU Commons Listening Sessions
DESCRIPTION:
 MSU Commons is a scholarly online infrastructure 
 for academic community within MSU and beyond. 
 It is MSU's institutional repository, a place 
 where you can develop your digital presence. 
 It is also the first institutional node 
 of the Commons, which is a growing space for 
 scholars from across institutions and disciplines. 
 It is currently in beta and we need your 
 feedback to continue development. Drop in during 
 any of these monthly listening sessions 
 to share your thoughts, complaints, compliments 
 or ideas to help us improve your experience 
 with MSU Commons.\n
 \n
 \n\n
 Price: free\n
 Sponsor: Administration\n
 Sponsor's Homepage: http://www.lib.msu.edu\n
 Contact name: Holly Flynn\n
 Contact phone: 517-884-0901\n
 Contact email: flynnhol@msu.edu\n
 for more info visit the web at:\n 
 https://bookings.lib.msu.edu/event/6900278\n
LOCATION:Online
END:VEVENT
END:VCALENDAR
