BEGIN:VCALENDAR
VERSION:2.0
METHOD:PUBLISH
PRODID:-//Virginia Tech//VT Calendar//EN
BEGIN:VEVENT
DTSTAMP:20200820T183000Z
UID:1597670559026@events.msu.edu
CATEGORIES:Conferences / Seminars / Lectures
DTSTART:20200820T183000Z
DTEND:20200820T193000Z
SUMMARY:Math Seminar Series
DESCRIPTION:
 The speaker of this webinar is Helmut Bolcskei, 
 ETH Zurich. The title is "Fundamental limits 
 of learning in deep neural networks." This 
 is part of One World MINDS seminar - view the 
 schedule at https://sites.google.com/view/minds-seminar/home.\n
 \n\n
 Price: free\n
 Sponsor: Department of Mathematics\n
 Sponsor's Homepage: https://www.math.msu.edu/\n
 Contact name: Department of Mathematics\n
 Contact phone: (517) 353-0844\n
 for more info visit the web at:\n 
 https://www.math.msu.edu/Seminars/CalendarView.aspx?month-of=September2016\n
LOCATION:Online Via Zoom
END:VEVENT
END:VCALENDAR
