BEGIN:VCALENDAR
VERSION:2.0
METHOD:PUBLISH
PRODID:-//Virginia Tech//VT Calendar//EN
BEGIN:VEVENT
DTSTAMP:20201010T040000Z
UID:1598296435798-0007@events.msu.edu
CATEGORIES:Special Events
DTSTART;VALUE=DATE:20201010
DTEND;VALUE=DATE:20201011
SUMMARY:MSU Federal Credit Union Virtual Dinosaur Dash
DESCRIPTION:
 Sign up for the first-ever Virtual Dinosaur Dash! 
 Wear a dinosaur costume, test your fitness 
 and enjoy a race experience while supporting 
 educational programs at the MSU Museum.\n
 \n
 Walk or run a 5K anywhere between Sunday, October 
 4 - Saturday, October 10.\n
 \n
 Participants 
 will be able to submit virtual times, download 
 finisher's certificates, and upload photos 
 from their virtual activities!\n\n
 Price: Registration prices vary depending on age and 
 T-shirt styles selected. \n
 Sponsor: MSU Museum\n
 Sponsor's Homepage: https://www.museum.msu.edu/?event=msu-federal-credit-union-dinosaur-dash\n
 Contact phone: 517-355-2370\n
 Contact email: museum@msu.edu\n
 for more info visit the web at:\n 
 https://www.museum.msu.edu/?event=msu-federal-credit-union-dinosaur-dash\n
END:VEVENT
END:VCALENDAR
