BEGIN:VCALENDAR
VERSION:2.0
METHOD:PUBLISH
PRODID:-//Virginia Tech//VT Calendar//EN
BEGIN:VEVENT
DTSTAMP:20201202T190000Z
UID:1598475766817@events.msu.edu
CATEGORIES:Special Events
DTSTART:20201202T190000Z
DTEND:20201202T194500Z
SUMMARY:Special Collections Look Club: LGBTQ+ Pride
DESCRIPTION:
 What do you see in an image, and what do others 
 see? Experience Special Collections slowly... 
 one image at a time! Our theme this week is 
 LGBTQ+ Pride. We'll examine one historical 
 and one contemporary image, and share insights 
 in an inclusive setting.\n\n
 Price: free\n
 Sponsor: Administration\n
 Sponsor's Homepage: http://www.lib.msu.edu\n
 Contact name: Holly Flynn\n
 Contact phone: 517-884-0901\n
 Contact email: flynnhol@msu.edu\n
 for more info visit the web at:\n 
 https://bookings.lib.msu.edu/calendar/events/lookclubdec2\n
LOCATION:Online
END:VEVENT
END:VCALENDAR
