BEGIN:VCALENDAR
VERSION:2.0
METHOD:PUBLISH
PRODID:-//Virginia Tech//VT Calendar//EN
BEGIN:VEVENT
DTSTAMP:20201125T190000Z
UID:1598493377349@events.msu.edu
CATEGORIES:Special Events
DTSTART:20201125T190000Z
DTEND:20201125T193000Z
SUMMARY:Special Collections Kids' Look Club: World Cultures 
DESCRIPTION:
 Our theme this week is World Cultures! Kids can 
 experience Special Collections too, on their 
 own or with an adult. Each week we'll look 
 at images from several historical periods, discover 
 details, and share insights in an inclusive, 
 interactive setting. \n\n
 Price: free\n
 Sponsor: Administration\n
 Sponsor's Homepage: http://www.lib.msu.edu\n
 Contact name: Holly Flynn\n
 Contact phone: 517-884-0901\n
 Contact email: flynnhol@msu.edu\n
 for more info visit the web at:\n 
 https://bookings.lib.msu.edu/calendar/events/kidslooknov25\n
LOCATION:Online
END:VEVENT
END:VCALENDAR
