BEGIN:VCALENDAR
VERSION:2.0
METHOD:PUBLISH
PRODID:-//Virginia Tech//VT Calendar//EN
BEGIN:VEVENT
DTSTAMP:20200901T130000Z
UID:1598728048458@events.msu.edu
CATEGORIES:Special Events
DTSTART:20200901T130000Z
DTEND:20200901T150000Z
SUMMARY:Colloquium with Your College
DESCRIPTION:
 Please see the Fall Welcome website for detailed 
 information on colloquium schedule times and 
 locations as they vary by college. New Spartans 
 are required to attend this session that 
 completes your introduction to your college 
 and major. Each college offers sessions where 
 new students learn about activities in the 
 college, and have an opportunity to engage with 
 faculty about expectations and strategies 
 for success in the particular field of study. 
 The Neighborhood Student Success Collaborative 
 will meet with "exploratory preference" students.\n\n
 Price: free\n
 Sponsor: Administration\n
 Sponsor's Homepage: https://studentlife.msu.edu\n
 Contact email: stulife@msu.edu\n
 for more info visit the web at:\n 
 https://studentlife.msu.edu/fall-welcome/colloquium-with-you-college-events.html\n
LOCATION:various
END:VEVENT
END:VCALENDAR
