BEGIN:VCALENDAR
VERSION:2.0
METHOD:PUBLISH
PRODID:-//Virginia Tech//VT Calendar//EN
BEGIN:VEVENT
DTSTAMP:20200926T040000Z
UID:1599237602635@events.msu.edu
CATEGORIES:Exhibits (Museum, Gardens, ...)
DTSTART;VALUE=DATE:20200926
DTEND;VALUE=DATE:20200927
SUMMARY:Who Is a Citizen? MSU Broad Art Lab Reopening
DESCRIPTION:
 Who Is a Citizen? presents new prose, poetry, 
 and moving-image works made by MSU students in 
 response to the videos in John Lucas and Claudia 
 Rankine: Situations. The student artists-who 
 were selected from a call for work this 
 past winter, in partnership with the College 
 of Arts & Letters, the Department of English, 
 the Creative Writing Program, the Film Studies 
 Program, and the MSU Broad-explore hybrid 
 media genres to advocate for racial equity and 
 a more just society.\n
 \n
 View Who Is A Citizen? 
 at the Art Lab, reopening to the public 
 on Sept. 26.\n\n
 Price: free\n
 Sponsor: Administration\n
 Sponsor's Homepage: http://broadmuseum.msu.edu\n
 Contact phone: (517) 884-4800\n
 Contact email: eebam@msu.edu\n
 for more info visit the web at:\n 
 http://broadmuseum.msu.edu\n
LOCATION:MSU Broad Art Lab
END:VEVENT
END:VCALENDAR
