BEGIN:VCALENDAR
VERSION:2.0
METHOD:PUBLISH
PRODID:-//Virginia Tech//VT Calendar//EN
BEGIN:VEVENT
DTSTAMP:20201028T200000Z
UID:1599338087024-0004@events.msu.edu
CATEGORIES:Student Events
DTSTART:20201028T200000Z
DTEND:20201028T220000Z
SUMMARY:MUC Peer Mentor Hours
DESCRIPTION:
 Check in with second years to ask about course 
 work, study tips, outside resources, ways to 
 destress during fall semester, life, and more.\n
 \n
 Join 
 Zoom Meeting:  https://msu.zoom.us/j/99528252764\n
 \n
 Passcode: 
 MUCPeer \n\n
 Price:  free\n
 Sponsor: student\n
 Contact name: Samantha Perovski\n
 Contact phone: 586-260-6494\n
 Contact email: perovski@msu.edu\n
LOCATION:Zoom
END:VEVENT
END:VCALENDAR
