BEGIN:VCALENDAR
VERSION:2.0
METHOD:PUBLISH
PRODID:-//Virginia Tech//VT Calendar//EN
BEGIN:VEVENT
DTSTAMP:20200915T200000Z
UID:1599831892024@events.msu.edu
CATEGORIES:Conferences / Seminars / Lectures
DTSTART:20200915T200000Z
DTEND:20200915T210000Z
SUMMARY:Math Seminar Series
DESCRIPTION:
 Colloquium\n
 \n
 Martin Hairer from Imperial College 
 London will be speaking.\n
 \n
 This event is 
 a virtual meeting that will take place via Zoom.\n\n
 Price: free\n
 Sponsor: Department of Mathematics\n
 Sponsor's Homepage: https://www.math.msu.edu/\n
 Contact name: Department of Mathematics\n
 Contact phone: (517) 353-0844\n
 for more info visit the web at:\n 
 https://www.math.msu.edu/Seminars/CalendarView.aspx?month-of=September2016\n
LOCATION:Zoom link provided on events page
END:VEVENT
END:VCALENDAR
