BEGIN:VCALENDAR
VERSION:2.0
METHOD:PUBLISH
PRODID:-//Virginia Tech//VT Calendar//EN
BEGIN:VEVENT
DTSTAMP:20201003T010000Z
UID:1600363926640@events.msu.edu
CATEGORIES:Student Events
DTSTART:20201003T010000Z
DTEND:20201003T030000Z
SUMMARY:Canadian Osteopathic Student Organization Alumni Event - Practicing in Canada
DESCRIPTION:
 Canadian alumni from the College of Osteopathic 
 Medicine speak to medical students about their 
 experience attending residency and/or practicing 
 in Canada \n
 \n
 Zoom meeting information:\n
 https://msu.zoom.us/j/93081841642\n
 Meeting 
 ID: 930 8184 1642\n
 Passcode: COMCOSO\n
 \n\n
 Price: Donations appreciated\n
 Sponsor: Canadian Osteopathic Student Organization \n
 Contact name: Erika Malana\n
 Contact phone: 5173038716\n
 Contact email: coso.msucom@gmail.com\n
LOCATION:Zoom event
END:VEVENT
END:VCALENDAR
