BEGIN:VCALENDAR
VERSION:2.0
METHOD:PUBLISH
PRODID:-//Virginia Tech//VT Calendar//EN
BEGIN:VEVENT
DTSTAMP:20200928T220000Z
UID:1600794746104@events.msu.edu
CATEGORIES:Student Events
DTSTART:20200928T220000Z
DTEND:20200929T000000Z
SUMMARY:Pediatric Interest Group presents a Pediatric Hematology/Oncology Speaker 
DESCRIPTION:
 The Pediatric Interest Group is presenting Jenna 
 Gedminas, MD. Jenna is a Pediatric Hematologist/oncologist 
 coming to speak to us about 
 her path through medical school, residency and 
 fellowship, and to speak to what it means to 
 care for kids with cancer. \n
 \n
 https://msu.zoom.us/j/99565434988\n
 \n
 Meeting 
 ID: 995 6543 
 4988\n
 Passcode: PIGS\n
 \n\n
 Price:  free\n
 Sponsor: student\n
 Contact name: Katie Sorensen\n
 Contact phone: 2697795786\n
 Contact email: soren104@msu.edu\n
LOCATION:Zoom
END:VEVENT
END:VCALENDAR
