BEGIN:VCALENDAR
VERSION:2.0
METHOD:PUBLISH
PRODID:-//Virginia Tech//VT Calendar//EN
BEGIN:VEVENT
DTSTAMP:20201007T173000Z
UID:1601904271934@events.msu.edu
CATEGORIES:Conferences / Seminars / Lectures
DTSTART:20201007T173000Z
DTEND:20201008T035900Z
SUMMARY:Astronomy & Astrophysics Seminar
DESCRIPTION:
 Griffin Hosseinzadeh from the CfA will be speaking.\n
 \n
 The 
 seminar is titled "2020: The Year 
 of Twenty Thousand Transients."\n
 \n
 Astronomy 
 Seminars take place Wednesdays at 1:30pm, unless 
 otherwise noted.\n\n
 Price: free\n
 Sponsor: Biomedical and Physical Sciences Building\n
 Sponsor's Homepage: https://www.pa.msu.edu/\n
 Contact name: Shawna Prater\n
 Contact email: prater@pa.msu.edu\n
 for more info visit the web at:\n 
 https://www.pa.msu.edu/seminars/ast_seminars/current\n
LOCATION:Online Via Zoom
END:VEVENT
END:VCALENDAR
