BEGIN:VCALENDAR
VERSION:2.0
METHOD:PUBLISH
PRODID:-//Virginia Tech//VT Calendar//EN
BEGIN:VEVENT
DTSTAMP:20201009T163000Z
UID:1602077675424@events.msu.edu
CATEGORIES:Conferences / Seminars / Lectures
DTSTART:20201009T163000Z
DTEND:20201010T035900Z
SUMMARY:EES Distinguished Speaker Series
DESCRIPTION:
 Meets at 12:30 PM, on Zoom, (see email for invite)\n
 \n
 Jennifer 
 Bauer speaks on National Fossil 
 Day.\n\n
 Price: free\n
 Sponsor: Administration\n
 Sponsor's Homepage: https://ees.natsci.msu.edu/events1/ees-distinguished-speaker-series/\n
 for more info visit the web at:\n 
 https://ees.natsci.msu.edu/events1/ees-distinguished-speaker-series/\n
LOCATION:Online via Zoom
END:VEVENT
END:VCALENDAR
