BEGIN:VCALENDAR
VERSION:2.0
METHOD:PUBLISH
PRODID:-//Virginia Tech//VT Calendar//EN
BEGIN:VEVENT
DTSTAMP:20201105T193000Z
UID:1604065878461@events.msu.edu
CATEGORIES:Conferences / Seminars / Lectures
DTSTART:20201105T193000Z
DTEND:20201105T203000Z
SUMMARY:Math Seminar Series
DESCRIPTION:
 Applied Mathematics\n
 \n
 Rachel Ward from University 
 of Texas at Austin will be speaking.\n
 \n
 Contact Olga Turanova (turanova@msu.edu) for 
 more information.\n\n
 Price: free\n
 Sponsor: Department of Mathematics\n
 Sponsor's Homepage: https://www.math.msu.edu/\n
 Contact name: Department of Mathematics\n
 Contact phone: (517) 353-0844\n
 for more info visit the web at:\n 
 https://www.math.msu.edu/Seminars/CalendarView.aspx?month-of=September2016\n
LOCATION:Zoom link provided on Math Seminars page
END:VEVENT
END:VCALENDAR
