BEGIN:VCALENDAR
VERSION:2.0
METHOD:PUBLISH
PRODID:-//Virginia Tech//VT Calendar//EN
BEGIN:VEVENT
DTSTAMP:20201117T210000Z
UID:1605535991691@events.msu.edu
CATEGORIES:Conferences / Seminars / Lectures
DTSTART:20201117T210000Z
DTEND:20201117T220000Z
SUMMARY:Math Seminar Series
DESCRIPTION:
 Catherine Goldstein, CNRS, Institut de mathématiques 
 de Jussieu Paris Gauche, will be speaking.\n
 \n
 The 
 presentation is titled "Hermite's 
 mathematics as natural science."\n
 \n
 Contact 
 Aaron D Levin (levina@msu.edu) for more information.\n\n
 Price: free\n
 Sponsor: Department of Mathematics\n
 Sponsor's Homepage: https://www.math.msu.edu/\n
 Contact name: Department of Mathematics\n
 Contact phone: (517) 353-0844\n
 for more info visit the web at:\n 
 https://www.math.msu.edu/Seminars/CalendarView.aspx?month-of=September2016\n
LOCATION:Online via Zoom
END:VEVENT
END:VCALENDAR
