BEGIN:VCALENDAR
VERSION:2.0
METHOD:PUBLISH
PRODID:-//Virginia Tech//VT Calendar//EN
BEGIN:VEVENT
DTSTAMP:20201123T220000Z
UID:1605882429741@events.msu.edu
CATEGORIES:Conferences / Seminars / Lectures
DTSTART:20201123T220000Z
DTEND:20201123T230000Z
SUMMARY:Math Seminar Series
DESCRIPTION:
 Student Number Theory\n
 \n
 Shitan Xu from MSU will 
 be speaking.\n
 \n
 The title is "Weil Differentials 
 and the Canonical Class over function 
 fields."\n
 \n
 Contact Zheng Xiao (xiaozhen@msu.edu) 
 for more information. \n\n
 Price: free\n
 Sponsor: Department of Mathematics\n
 Sponsor's Homepage: https://www.math.msu.edu/\n
 Contact name: Department of Mathematics\n
 Contact phone: (517) 353-0844\n
 for more info visit the web at:\n 
 https://www.math.msu.edu/Seminars/CalendarView.aspx?month-of=September2016\n
LOCATION:Online via Zoom
END:VEVENT
END:VCALENDAR
