BEGIN:VCALENDAR
VERSION:2.0
METHOD:PUBLISH
PRODID:-//Virginia Tech//VT Calendar//EN
BEGIN:VEVENT
DTSTAMP:20201207T183000Z
UID:1606842478887@events.msu.edu
CATEGORIES:Academic
DTSTART:20201207T183000Z
DTEND:20201207T193000Z
SUMMARY:Pediatric Interest Group Teddy Bear Virtual Teddy Bear Clinic
DESCRIPTION:
 The MSUCOM Pediatric Interest Group is hosting 
 a virtual teddy bear clinic with a Kindergarten 
 Class in Rockford, MI. \n\n
 Sponsor: public\n
 Contact name: Brittany Beeler\n
 Contact email: beelerbr@msu.edu\n
LOCATION:Zoom
END:VEVENT
END:VCALENDAR
