BEGIN:VCALENDAR
VERSION:2.0
METHOD:PUBLISH
PRODID:-//Virginia Tech//VT Calendar//EN
BEGIN:VEVENT
DTSTAMP:20201203T083000Z
UID:1606918430128@events.msu.edu
CATEGORIES:Conferences / Seminars / Lectures
DTSTART:20201203T083000Z
DTEND:20201203T093000Z
SUMMARY:Math Seminar Series
DESCRIPTION:
 (Note the unusual time: 4:30pm Shanghai, 10:30am 
 Paris.)\n
 \n
 Applied Mathematics\n
 \n
 Ding-Xua 
 Zhou from City University of Hong Kong will 
 be speaking.\n
 \n
 The presentation is titled "Theory 
 of Deep Convolutional Neural Networks."\n
 \n
 Contact 
 Olga Turanova (turanova@msu.edu) 
 for more information.\n\n
 Price: free\n
 Sponsor: Department of Mathematics\n
 Sponsor's Homepage: https://www.math.msu.edu/\n
 Contact name: Department of Mathematics\n
 Contact phone: (517) 353-0844\n
 for more info visit the web at:\n 
 https://www.math.msu.edu/Seminars/CalendarView.aspx?month-of=September2016\n
LOCATION:Zoom link provided on Math Seminars page
END:VEVENT
END:VCALENDAR
