BEGIN:VCALENDAR
VERSION:2.0
METHOD:PUBLISH
PRODID:-//Virginia Tech//VT Calendar//EN
BEGIN:VEVENT
DTSTAMP:20201216T140000Z
UID:1607698249043-0003@events.msu.edu
CATEGORIES:Conferences / Seminars / Lectures
DTSTART:20201216T140000Z
DTEND:20201217T045900Z
SUMMARY:National Superconducting Cyclotron Laboratory Seminar
DESCRIPTION:
 ISNET 2020 Virtual pre-conference: The Information 
 and Statistics in Nuclear Experiment and 
 Theory (ISNET) Virtual pre-conference\n
 \n
 Due 
 to the spread of COVID-19, the ISNET Local Organizing 
 Committee will postpone the in-person 
 conference for 2021. Virtual pre-conference 
 December 14-18 2020, updates will follow. Thank 
 you for your understanding. The Virtual 
 pre-conference will be held from December 14 
 to 18 2020; in the format of 30-40 min. talk 
 with 20-30 min. for discussions led by a panel 
 and the speaker. A few ideas for lectures are: 
 1. Bayesian Basics 2. Model Emulation 3. 
 Model Mixing 4. ML techniques for statistical 
 analysis 5. Advanced Statistics Techniques for 
 Analyzing Experimental Data 6. Resampling 
 Techniques (e.g. bootstrap) Please contact us 
 should you have any questions or ideas at isnet@frib.msu.edu\n\n
 Price: free\n
 Sponsor: National Superconducting Cyclotron Laboratory\n
 Sponsor's Homepage: http://www.nscl.msu.edu/\n
 Contact name: National Superconducting Cyclotron Laboratory\n
 Contact phone: 517-355-9671\n
 Contact email: nscl.msu.edu\n
 for more info visit the web at:\n 
 http://www.nscl.msu.edu/apps/seminars.php\n
LOCATION:Online via Zoom
END:VEVENT
END:VCALENDAR
