BEGIN:VCALENDAR
VERSION:2.0
METHOD:PUBLISH
PRODID:-//Virginia Tech//VT Calendar//EN
BEGIN:VEVENT
DTSTAMP:20210407T180000Z
UID:1608170714288@events.msu.edu
CATEGORIES:Special Events
DTSTART:20210407T180000Z
DTEND:20210407T190000Z
SUMMARY:Special Collections: Books You Read in High School
DESCRIPTION:
 Imagine going back to your high school lit classes... 
 but this time, reading your assignments 
 from rare first editions, author-signed copies, 
 and volumes illustrated by famous artists! 
 Student curator Berkley Sorrells will share 
 her favorites from our remarkable collection 
 of rare books.\n\n
 Price: free\n
 Sponsor: Administration\n
 Sponsor's Homepage: http://www.lib.msu.edu\n
 Contact name: Holly Flynn\n
 Contact phone: 517-884-0901\n
 Contact email: flynnhol@msu.edu\n
 for more info visit the web at:\n 
 https://bookings.lib.msu.edu/event/7350021\n
LOCATION:Online
END:VEVENT
END:VCALENDAR
