BEGIN:VCALENDAR
VERSION:2.0
METHOD:PUBLISH
PRODID:-//Virginia Tech//VT Calendar//EN
BEGIN:VEVENT
DTSTAMP:20210226T000000Z
UID:1610577209209@events.msu.edu
CATEGORIES:Special Events
DTSTART:20210226T000000Z
DTEND:20210226T010000Z
SUMMARY:Where is everybody?
DESCRIPTION:
 This presentation is part of the Great Lakes Lectures 
 series, online lectures featuring academics 
 from Michigan State University. This series 
 is organized by Prof. Dan Hayden and Dr. 
 Elias Aydi, and live streamed from the Digital 
 Scholarship lab at MSU Libraries.\n\n
 Price: free\n
 Sponsor: Administration\n
 Sponsor's Homepage: http://www.lib.msu.edu\n
 Contact name: Holly Flynn\n
 Contact phone: 517-884-0901\n
 Contact email: flynnhol@msu.edu\n
 for more info visit the web at:\n 
 https://bookings.lib.msu.edu/event/7427945\n
LOCATION:Online
END:VEVENT
END:VCALENDAR
