BEGIN:VCALENDAR
VERSION:2.0
METHOD:PUBLISH
PRODID:-//Virginia Tech//VT Calendar//EN
BEGIN:VEVENT
DTSTAMP:20210203T170000Z
UID:1611930110112@events.msu.edu
CATEGORIES:Conferences / Seminars / Lectures
DTSTART:20210203T170000Z
DTEND:20210203T180000Z
SUMMARY:Cell and Molecular Biology Program Research Forum
DESCRIPTION:
 Brad Day will be speaking.	\n
 \n
 Faculty Talk: "Nucleocytoplasmic 
 streaming of immunity through 
 the actin cytoskeleton"\n\n
 Price: free\n
 Sponsor: Cell and Molecular Biology Program\n
 Sponsor's Homepage: https://cmb.natsci.msu.edu/\n
 Contact name: Cell and Molecular Biology Program\n
 Contact phone: (517) 884-5299\n
 Contact email: cmb@msu.edu\n
 for more info visit the web at:\n 
 https://cmb.natsci.msu.edu/current-students/research-forum-schedule/\n
LOCATION:Online via Zoom
END:VEVENT
END:VCALENDAR
