BEGIN:VCALENDAR
VERSION:2.0
METHOD:PUBLISH
PRODID:-//Virginia Tech//VT Calendar//EN
BEGIN:VEVENT
DTSTAMP:20210204T203000Z
UID:1611931051454@events.msu.edu
CATEGORIES:Conferences / Seminars / Lectures
DTSTART:20210204T203000Z
DTEND:20210205T045900Z
SUMMARY:Ecology, Evolutionary Biology and Behavior Seminar
DESCRIPTION:
 Seminar hosted by MSU's Ecology, Evolutionary 
 Biology and Behavior Program. \n
 \n
 The presentation 
 is titled "Does the evolution of thermal 
 tolerance shape patterns of rarity, invasion, 
 and population responses to climate change?"\n
 \n
 Seema 
 Sheth, Plant and Microbial Biology 
 - North Carolina State University, will be 
 speaking.\n
 \n
 The event is hosted by Marianna 
 Szucs.\n\n
 Price: free\n
 Sponsor: EEBB Program\n
 Sponsor's Homepage: http://eebb.msu.edu/\n
 Contact name: EEBB Office\n
 Contact phone: (517) 432-1359\n
 Contact email: eebb@msu.edu\n
 for more info visit the web at:\n 
 https://eebb.msu.edu/seminars2015.php\n
LOCATION:Online via Zoom
END:VEVENT
END:VCALENDAR
