BEGIN:VCALENDAR
VERSION:2.0
METHOD:PUBLISH
PRODID:-//Virginia Tech//VT Calendar//EN
BEGIN:VEVENT
DTSTAMP:20210421T150000Z
UID:1613140396131-0010@events.msu.edu
CATEGORIES:Conferences / Seminars / Lectures
DTSTART:20210421T150000Z
DTEND:20210421T160000Z
SUMMARY:Biomedical Engineering Virtual Seminar Series
DESCRIPTION:
 Join us for our weekly seminar series featuring 
 biomedical researchers from institutions across 
 the country. Seminars take place every Wednesday 
 at 11 AM via Zoom. If you would like 
 to receive email announcements for these seminars, 
 contact Saneeya Mir at mirsanee@msu.edu.\n\n
 Price: free\n
 Contact name: Saneeya Mir\n
 Contact phone: 5178840169\n
 Contact email: mirsanee@msu.edu\n
 for more info visit the web at:\n 
 https://iq.msu.edu/upcoming-events/\n
LOCATION:Virtual
END:VEVENT
END:VCALENDAR
