BEGIN:VCALENDAR
VERSION:2.0
METHOD:PUBLISH
PRODID:-//Virginia Tech//VT Calendar//EN
BEGIN:VEVENT
DTSTAMP:20210223T201000Z
UID:1613746737854@events.msu.edu
CATEGORIES:Conferences / Seminars / Lectures
DTSTART:20210223T201000Z
DTEND:20210224T045900Z
SUMMARY:Microbiology & Molecular Genetics Seminar
DESCRIPTION:
 Weekly research seminars hosted by the Department 
 of Microbiology and Molecular Genetics. \n
 All 
 MMG seminars are at 3:10 P.M., TUESDAY, 
 via Zoom, unless noted otherwise.\n
 \n
 The seminar 
 topic is "How do small DNA viruses navigate 
 the nuclear environment to establish infection?"\n
 \n
 Kinjal 
 Majumder, University of Wisconsin 
 - Madison, will be the speaker.\n
 \n
 The 
 seminar is hosted by Reguera.\n\n
 Price: Free\n
 Sponsor: Dept. of Microbiology & Molecular Genetics \n
 Sponsor's Homepage: http://mmg.msu.edu/\n
 Contact name: George Garrity and Chris Waters\n
 Contact phone: 517-884-5288\n
 for more info visit the web at:\n 
 https://mmg.natsci.msu.edu/seminars/mmg-seminars-fall-2016-spring-2017/\n
LOCATION:Online via Zoom
END:VEVENT
END:VCALENDAR
