BEGIN:VCALENDAR
VERSION:2.0
METHOD:PUBLISH
PRODID:-//Virginia Tech//VT Calendar//EN
BEGIN:VEVENT
DTSTAMP:20210223T152000Z
UID:1613747533152@events.msu.edu
CATEGORIES:Conferences / Seminars / Lectures
DTSTART:20210223T152000Z
DTEND:20210223T161000Z
SUMMARY:Statistics Seminars
DESCRIPTION:
 COLLOQUIUM - CHAO GAO\n
 \n
 The speaker's institution 
 is the University of Chicago.\n\n
 Price: free\n
 Sponsor: Department of Statistics and Probability\n
 Sponsor's Homepage: http://www.stt.msu.edu\n
 Contact name: Department of Statistics and Probability\n
 Contact phone: 517-355-9589\n
 Contact email: staff@stt.msu.edu\n
 for more info visit the web at:\n 
 https://stt.msu.edu/Seminars/default.aspx\n
LOCATION:Online via Zoom
END:VEVENT
END:VCALENDAR
