BEGIN:VCALENDAR
VERSION:2.0
METHOD:PUBLISH
PRODID:-//Virginia Tech//VT Calendar//EN
BEGIN:VEVENT
DTSTAMP:20210226T220000Z
UID:1614264573454@events.msu.edu
CATEGORIES:Conferences / Seminars / Lectures
DTSTART:20210226T220000Z
DTEND:20210226T230000Z
SUMMARY:Math Seminar Series
DESCRIPTION:
 Student Number Theory\n
 \n
 Keping Huang, Michigan 
 State University, will be speaking.\n
 \n
 The 
 presentation title is "Carlitz exponentials and 
 Carlitz modules."\n
 \n
 Contact: Keping Huang 
 (huangk23@msu.edu)\n\n
 Price: free\n
 Sponsor: Department of Mathematics\n
 Sponsor's Homepage: https://www.math.msu.edu/\n
 Contact name: Department of Mathematics\n
 Contact phone: (517) 353-0844\n
 for more info visit the web at:\n 
 https://www.math.msu.edu/Seminars/CalendarView.aspx?month-of=September2016\n
LOCATION:Online via Zoom
END:VEVENT
END:VCALENDAR
