BEGIN:VCALENDAR
VERSION:2.0
METHOD:PUBLISH
PRODID:-//Virginia Tech//VT Calendar//EN
BEGIN:VEVENT
DTSTAMP:20210402T000000Z
UID:1616344124317@events.msu.edu
CATEGORIES:Student Events
DTSTART:20210402T000000Z
DTEND:20210402T010000Z
SUMMARY:American College of Osteopathic Family Physicians and Business in Medicine present: Dr. Carl Kinzel
DESCRIPTION:
 ACOFP and BIM presents Dr. Carl Kinzel D.O. Dr. 
 Kinzel went from working for others to being 
 his own boss. Now, he has a successful private 
 practice that also has a myriad of other 
 healthcare professionals on site. Come join us 
 to learn about his journey to owning his own 
 business and see how his experience has changed 
 his perspective on healthcare. \n
 \n\n
 Price:  free\n
 Sponsor: student\n
 Contact name: Olivia \n
 Contact phone: 2699035743\n
 Contact email: welcholi@msu.edu\n
 for more info visit the web at:\n 
 https://msu.zoom.us/j/99929004923 \n
LOCATION:Zoom 
END:VEVENT
END:VCALENDAR
