BEGIN:VCALENDAR
VERSION:2.0
METHOD:PUBLISH
PRODID:-//Virginia Tech//VT Calendar//EN
BEGIN:VEVENT
DTSTAMP:20210325T203000Z
UID:1616507984174@events.msu.edu
CATEGORIES:Conferences / Seminars / Lectures
DTSTART:20210325T203000Z
DTEND:20210326T045900Z
SUMMARY:Ecology, Evolutionary Biology and Behavior Seminar
DESCRIPTION:
 Seminar hosted by MSU's Ecology, Evolutionary 
 Biology and Behavior Program. \n
 \n
 The presentation 
 title is "Development and evolution of 
 bats."\n
 \n
 Karen Sears, Institute of the Environment 
 & Sustainability, University of California, 
 is the speaker.\n
 \n
 The event is hosted 
 by Ingo Braasch.\n\n
 Price: free\n
 Sponsor: EEBB Program\n
 Sponsor's Homepage: http://eebb.msu.edu/\n
 Contact name: EEBB Office\n
 Contact phone: (517) 432-1359\n
 Contact email: eebb@msu.edu\n
 for more info visit the web at:\n 
 https://eebb.msu.edu/seminars2015.php\n
LOCATION:Online via Zoom
END:VEVENT
END:VCALENDAR
