BEGIN:VCALENDAR
VERSION:2.0
METHOD:PUBLISH
PRODID:-//Virginia Tech//VT Calendar//EN
BEGIN:VEVENT
DTSTAMP:20210406T201000Z
UID:1617284012107@events.msu.edu
CATEGORIES:Conferences / Seminars / Lectures
DTSTART:20210406T201000Z
DTEND:20210407T045900Z
SUMMARY:Microbiology & Molecular Genetics Seminar
DESCRIPTION:
 Weekly research seminars hosted by the Department 
 of Microbiology and Molecular Genetics. \n
 \n
 The 
 title is "An Unexpected Journey: Commercializing 
 BioElectrochemical Systems for Industrial 
 Wastewater Treatment."\n
 \n
 All MMG seminars 
 are at 3:10 P.M., TUESDAY, via Zoom, unless 
 noted otherwise.\n
 \n
 Orianna Bretschger, 
 Aquacycl LLC, will be speaking.\n
 \n
 The host is 
 Reguera.\n\n
 Price: Free\n
 Sponsor: Dept. of Microbiology & Molecular Genetics \n
 Sponsor's Homepage: http://mmg.msu.edu/\n
 Contact name: George Garrity and Chris Waters\n
 Contact phone: 517-884-5288\n
 for more info visit the web at:\n 
 https://mmg.natsci.msu.edu/seminars/mmg-seminars-fall-2016-spring-2017/\n
LOCATION:Online via zoom
END:VEVENT
END:VCALENDAR
