BEGIN:VCALENDAR
VERSION:2.0
METHOD:PUBLISH
PRODID:-//Virginia Tech//VT Calendar//EN
BEGIN:VEVENT
DTSTAMP:20210626T170000Z
UID:1623429555595@events.msu.edu
CATEGORIES:Student Events
DTSTART:20210626T170000Z
DTEND:20210626T193000Z
SUMMARY:Sigma Sigma Phi Greater Lansing Food Bank (EL ONLY)
DESCRIPTION:
 Students will attend the Greater Lansing Food 
 Bank Warehouse and package meals for later distribution 
 to those in need. \n\n
 Price:  free\n
 Sponsor: Sigma Sigma Phi\n
 Contact name: Sigma Sigma Phi\n
 Contact email: msucom.ssp@gmail.com\n
LOCATION:Bath Township, MI
END:VEVENT
END:VCALENDAR
