BEGIN:VCALENDAR
VERSION:2.0
METHOD:PUBLISH
PRODID:-//Virginia Tech//VT Calendar//EN
BEGIN:VEVENT
DTSTAMP:20210729T140000Z
UID:1625595303620@events.msu.edu
CATEGORIES:Training
DTSTART:20210729T140000Z
DTEND:20210729T170000Z
SUMMARY:Text Analysis Learn-a-Thon
DESCRIPTION:
 Join members of the Digital Scholarship Lab and 
 Digital Humanities at MSU community to learn 
 about text analysis together. This Learn-a-thon 
 is a time to share your interest in text 
 analysis as a method and to experiment, dive-in, 
 and/or test out tools and approaches that 
 can further your research and teaching.\n
 \n
 After community introductions, we will go into 
 co-working sessions based on the group's interests. 
 This may include working through a tutorial 
 together, sharing knowledge about a certain 
 method, or exploring a tool such as Voyant, 
 Constellate, etc. Topics covered may include 
 python, nltk, and topic modelling, but 
 we can and will explore others as desired.\n
 \n
 ALL 
 ARE WELCOME, from any department or discipline 
 and regardless of student/staff/faculty 
 status. All levels of experience are welcome. 
 You are encouraged to bring your own dataset, 
 but we will also have datasets available 
 for experimentation and play.\n
 \n
 This Learn-a-thon 
 may form the basis for an MSU community 
 of practice or learning community around text 
 analysis, if the group desires to continue 
 activities after July 29. If you are interested 
 in such a group but are unable to join this 
 Learn-a-Thon, email Kate Topham (tophamka@msu.edu).\n\n
 Price: free\n
 Sponsor: Administration\n
 Sponsor's Homepage: http://www.lib.msu.edu\n
 Contact name: Holly Flynn\n
 Contact phone: 517-884-0901\n
 Contact email: flynnhol@msu.edu\n
 for more info visit the web at:\n 
 https://bookings.lib.msu.edu/event/8000129\n
LOCATION:Online
END:VEVENT
END:VCALENDAR
