BEGIN:VCALENDAR
VERSION:2.0
METHOD:PUBLISH
PRODID:-//Virginia Tech//VT Calendar//EN
BEGIN:VEVENT
DTSTAMP:20210721T220000Z
UID:1625772235109@events.msu.edu
CATEGORIES:Public Programs
DTSTART:20210721T220000Z
DTEND:20210722T035900Z
SUMMARY:Summer Carillon Series: Concert 3
DESCRIPTION:
  Price: free\n
 Sponsor: College of Music\n
 Sponsor's Homepage: https://www.music.msu.edu/event-listing/24th-annual-muelder-summer-carillon-series-concert-3\n
 Contact name: Hailey Diehl-Olger\n
 Contact email: musicpr@msu.edu\n
LOCATION:Beaumont Tower
END:VEVENT
END:VCALENDAR
