BEGIN:VCALENDAR
VERSION:2.0
METHOD:PUBLISH
PRODID:-//Virginia Tech//VT Calendar//EN
BEGIN:VEVENT
DTSTAMP:20210718T183000Z
UID:1626294314391@events.msu.edu
CATEGORIES:Conferences / Seminars / Lectures
DTSTART:20210718T183000Z
DTEND:20210718T193000Z
SUMMARY:Math Seminar Series
DESCRIPTION:
 Prof. Yaniv Plan from University of British Columbia 
  gives a presentation about applied mathematics.\n\n
 Price: free\n
 Sponsor: Department of Mathematics\n
 Sponsor's Homepage: https://www.math.msu.edu/\n
 Contact name: Department of Mathematics\n
 Contact phone: (517) 353-0844\n
 for more info visit the web at:\n 
 https://www.math.msu.edu/Seminars/CalendarView.aspx?month-of=September2016\n
LOCATION:Online
END:VEVENT
END:VCALENDAR
