BEGIN:VCALENDAR
VERSION:2.0
METHOD:PUBLISH
PRODID:-//Virginia Tech//VT Calendar//EN
BEGIN:VEVENT
DTSTAMP:20210927T190000Z
UID:1628540182244@events.msu.edu
CATEGORIES:Training
DTSTART:20210927T190000Z
DTEND:20210927T203000Z
SUMMARY:Zotero Workshop
DESCRIPTION:
 An introduction to the free open source citation 
 management program Zotero. In this workshop, 
 participants will learn how to:\n
 \n
    Download 
 references from MSU's article databases 
 and websites\n
    Format citations and bibliographies 
 in a Word document\n
    Create groups 
 and share references with other users\n\n
 Price: free\n
 Sponsor: Administration\n
 Sponsor's Homepage: http://www.lib.msu.edu\n
 Contact name: Holly Flynn\n
 Contact phone: 517-884-0901\n
 Contact email: flynnhol@msu.edu\n
 for more info visit the web at:\n 
 https://bookings.lib.msu.edu/event/8124510\n
LOCATION:Main Library 
END:VEVENT
END:VCALENDAR
