BEGIN:VCALENDAR
VERSION:2.0
METHOD:PUBLISH
PRODID:-//Virginia Tech//VT Calendar//EN
BEGIN:VEVENT
DTSTAMP:20211103T233000Z
UID:1632005322319@events.msu.edu
CATEGORIES:Performing Arts (Dance, Music, Theatre,  ...)
DTSTART:20211103T233000Z
DTEND:20211104T035900Z
SUMMARY:The Westerlies
DESCRIPTION:
 This arty brass quartet of childhood friends from 
 Seattle mixes ideas from jazz, new classical, 
 and Appalachian folk. Based in New York, 
 the blend of two trumpets and two trombones 
 navigates an array of venues and projects with 
 the precision of a string quartet, the audacity 
 of a rock band, and the charm of a family 
 sing-along. Formed in 2011, the self-described 
 "accidental brass quartet" takes its name 
 from the prevailing winds that travel from the 
 West to the East.\n
 \n
 The Westerlies present 
 "Wherein Lies the Good," works from their latest 
 critically-acclaimed quartet album alongside 
 a reimagining of Caroline Shaw's landmark 
 string quartet Entr'acte. Imbued with the 
 spirit of improvisation and a folk-like approachability, 
 this concert presents The Westerlies 
 at their best, cutting new trails across 
 the vast expanse of the American musical landscape.\n
 \n
 Works 
 to include "Entr'acte" by Caroline 
 Shaw, adaptations of music by the Golden 
 Gate Quartet, music by Duke Ellington, and 
 original compositions by The Westerlies, among 
 other selections announced from the stage.\n\n
 Price: Adult: $22, Senior: $20, Student: $12, ADA Adult: 
 $22, ADA Senior: $20, ADA Student: $12\n
 Sponsor: College of Music\n
 Sponsor's Homepage: http://www.music.msu.edu\n
 Contact name: Jayar Brenner\n
 Contact email: msupr@msu.edu\n
 for more info visit the web at:\n 
 https://www.etix.com/ticket/p/4606232/msu-federal-credit-union-showcase-seriesthe-westerlies-east-la\n
LOCATION:Fairchild Theatre
END:VEVENT
END:VCALENDAR
