BEGIN:VCALENDAR
VERSION:2.0
METHOD:PUBLISH
PRODID:-//Virginia Tech//VT Calendar//EN
BEGIN:VEVENT
DTSTAMP:20211026T213000Z
UID:1632250768086@events.msu.edu
CATEGORIES:Student Events
DTSTART:20211026T213000Z
DTEND:20211027T035900Z
SUMMARY:AOA Presentation on Boards Certification
DESCRIPTION:
 The Michigan representatives to the American Osteopathic 
 Association Board of Trustees; Dr. 
 Piccinini, Dr. Hurst, and Dr. Wolf will present 
 to the Class of 2024 and 2025 about AOA board 
 certification. One trustee will be live 
 at each campus with Dr. Klauer (AOA CEO) and 
 Dr. Giaimo (AOA President) attending via Zoom. 
 Dinner will be provided for this event.\n\n
 Price:  free\n
 Sponsor: Student Osteopathic Medical Association \n
 Contact name: Briana Cervantes\n
 Contact email: cervan52@msu.edu\n
LOCATION:EL: E109 Central Fee Hall; DMC: G029; MUC: UC3 209.
END:VEVENT
END:VCALENDAR
