BEGIN:VCALENDAR
VERSION:2.0
METHOD:PUBLISH
PRODID:-//Virginia Tech//VT Calendar//EN
BEGIN:VEVENT
DTSTAMP:20220408T130000Z
UID:1632423247841@events.msu.edu
CATEGORIES:Special Events
DTSTART:20220408T130000Z
DTEND:20220408T220000Z
SUMMARY:University Undergraduate Research and Arts Forum 
DESCRIPTION:
 The 24th Annual Undergraduate Research and Arts 
 Forum (UURAF) provides over 900 Michigan State 
 undergraduate students with an opportunity 
 to showcase their research and creative scholarship. 
 This event is free and open to the 
 public. \n\n
 Price: Free\n
 Sponsor: public\n
 Contact name: Heather Dover\n
 Contact phone: 517-884-1558\n
 Contact email: doverhea@msu.edu\n
 for more info visit the web at:\n 
 https://urca.msu.edu/uuraf\n
LOCATION:Breslin Center 
END:VEVENT
END:VCALENDAR
