BEGIN:VCALENDAR
VERSION:2.0
METHOD:PUBLISH
PRODID:-//Virginia Tech//VT Calendar//EN
BEGIN:VEVENT
DTSTAMP:20211202T050000Z
UID:1634327928660@events.msu.edu
CATEGORIES:Conferences / Seminars / Lectures
DTSTART;VALUE=DATE:20211202
DTEND;VALUE=DATE:20211203
SUMMARY:Accessible Learning Conference 2021: Transforming Access in COVID Times
DESCRIPTION:
 The Covid-19 pandemic continues to change the 
 landscape of higher education. In the last eighteen 
 months, students, staff and faculty have 
 continued learning and teaching with improvisational 
 workarounds needed to create continuity 
 and access in our learning spaces. These 
 experiences can offer important lessons for 
 designing greater access in our interactions, 
 services, and courses so that more learners 
 can achieve their goals. Join us in this conversation. 
 Consider submitting a proposal to 
 present at this 2-day asynchronous event. We 
 encourage presentations from student perspectives 
 on learning and working in higher education 
 during Covid. \n\n
 Price: free\n
 Sponsor: public\n
 Contact name: David Howe\n
 Contact email: davehowe@msu.edu\n
 for more info visit the web at:\n 
 https://www.accessiblelearning.org/\n
LOCATION:online. Link will be announced.
END:VEVENT
END:VCALENDAR
