BEGIN:VCALENDAR
VERSION:2.0
METHOD:PUBLISH
PRODID:-//Virginia Tech//VT Calendar//EN
BEGIN:VEVENT
DTSTAMP:20211105T160000Z
UID:1635538707098@events.msu.edu
CATEGORIES:Public Programs
DTSTART:20211105T160000Z
DTEND:20211105T220000Z
SUMMARY:Spartan Upcycle Fridays: Metallic Votive Candle Holders
DESCRIPTION:
 Let the light in for November's cozy, fall-inspired 
 project! Celebrate the beginning of the 
 colder months by combining upcycled metal items 
 to craft a fascinating, reflective votive 
 candle holder.\n
 \n
 Drop in on Fridays and &quot;go 
 green!&quot; Each month, the MSU Broad 
 Art Lab offers a sustainably conscious project 
 in collaboration with Spartan Upcycle, the 
 creative reuse branch of the MSU Surplus Store 
 &amp; Recycling Center. We repurpose and re-imagine 
 items that might otherwise end up in 
 a landfill with a creative twist. Materials 
 and instruction are $5 for the general public 
 and free for students of any age. Pre-registration 
 for this event is encouraged. \n
 \n
 Held 
 at the Art Lab, located directly across the 
 street from the museum at 565 E Grand River Ave., 
 East Lansing, MI 48823.\n\n
 Price: students: free, public: $5\n
 Sponsor: public\n
 Contact name: Broad MSU \n
 Contact phone: 5178844800\n
 Contact email: eebam@msu.edu\n
 for more info visit the web at:\n 
 https://50807.blackbaudhosting.com/50807/Spartan-Upcycle-Fridays\n
LOCATION:MSU Broad Art Lab
END:VEVENT
END:VCALENDAR
