BEGIN:VCALENDAR
VERSION:2.0
METHOD:PUBLISH
PRODID:-//Virginia Tech//VT Calendar//EN
BEGIN:VEVENT
DTSTAMP:20220405T003000Z
UID:1636389435823@events.msu.edu
CATEGORIES:Performing Arts (Dance, Music, Theatre,  ...)
DTSTART:20220405T003000Z
DTEND:20220405T045900Z
SUMMARY:Legends
DESCRIPTION:
 West Circle explores exciting new territory with 
 "Legends" - a concert featuring the legends 
 of yesterday, today, and tomorrow.  Abandon 
 all stereotypes associated with different musical 
 genres and enjoy this blended concert ranging 
 from well-loved classical works to "Legendary" 
 compositions from the adventurous world 
 of gaming. A transformative look at traditional 
 music through a multimedia experience 
 that will shed new light on the traditional and 
 introduce our audience to beloved current 
 day music.\n\n
 Price: Adult: $17, Senior: $15, Student: $7, ADA Adult: 
 $17, ADA Senior: $15, ADA Student: $7\n
 Sponsor: College of Music\n
 Sponsor's Homepage: http://www.music.msu.edu\n
 Contact name: Jayar Brenner\n
 Contact email: msupr@msu.edu\n
 for more info visit the web at:\n 
 https://www.etix.com/ticket/p/5734206/joanne-and-bill-church-west-circle-serieslegends-east-lansing-\n
LOCATION:Fairchild Theatre
END:VEVENT
END:VCALENDAR
