BEGIN:VCALENDAR
VERSION:2.0
METHOD:PUBLISH
PRODID:-//Virginia Tech//VT Calendar//EN
BEGIN:VEVENT
DTSTAMP:20211213T230000Z
UID:1636751814154@events.msu.edu
CATEGORIES:Student Events
DTSTART:20211213T230000Z
DTEND:20211214T010000Z
SUMMARY:Relax in the Round
DESCRIPTION:
 Take a study break and enjoy some relaxing videos 
 and music in the 360 degree immersive space!\n\n
 Price: free\n
 Sponsor: Administration\n
 Sponsor's Homepage: http://www.lib.msu.edu\n
 Contact name: Holly Flynn\n
 Contact phone: 517-884-0901\n
 Contact email: flynnhol@msu.edu\n
 for more info visit the web at:\n 
 https://bookings.lib.msu.edu/event/8512162\n
LOCATION:Main Library
END:VEVENT
END:VCALENDAR
