BEGIN:VCALENDAR
VERSION:2.0
METHOD:PUBLISH
PRODID:-//Virginia Tech//VT Calendar//EN
BEGIN:VEVENT
DTSTAMP:20211128T170000Z
UID:1637022937664@events.msu.edu
CATEGORIES:Performing Arts (Dance, Music, Theatre,  ...)
DTSTART:20211128T170000Z
DTEND:20211129T045900Z
SUMMARY:Marisa Balamucki, Percussion
DESCRIPTION:
  Price: free\n
 Sponsor: College of Music\n
 Sponsor's Homepage: http://www.music.msu.edu\n
 Contact name: Jayar Brenner\n
 Contact email: msupr@msu.edu\n
LOCATION:Murray Hall
END:VEVENT
END:VCALENDAR
