BEGIN:VCALENDAR
VERSION:2.0
METHOD:PUBLISH
PRODID:-//Virginia Tech//VT Calendar//EN
BEGIN:VEVENT
DTSTAMP:20211211T230000Z
UID:1637099678508@events.msu.edu
CATEGORIES:Performing Arts (Dance, Music, Theatre,  ...)
DTSTART:20211211T230000Z
DTEND:20211212T045900Z
SUMMARY:Meagan Wozny, Voice
DESCRIPTION:
  Price: free\n
 Sponsor: College of Music\n
 Sponsor's Homepage: http://www.music.msu.edu\n
 Contact name: Jayar Brenner\n
 Contact email: msupr@msu.edu\n
LOCATION:Cook Recital Hall
END:VEVENT
END:VCALENDAR
