BEGIN:VCALENDAR
VERSION:2.0
METHOD:PUBLISH
PRODID:-//Virginia Tech//VT Calendar//EN
BEGIN:VEVENT
DTSTAMP:20211217T170000Z
UID:1637591715129@events.msu.edu
CATEGORIES:Public Programs
DTSTART:20211217T170000Z
DTEND:20211217T230000Z
SUMMARY:Spartan Upcycle Fridays: Wintery Paper Wreaths 
DESCRIPTION:
 Adorn your door in December with a festive, upcycled 
 paper wreath! Combine interesting ephemera 
 like books, sheet music, maps, comics, and 
 office supplies culled from the donations 
 and surplus provided by Spartan Upcycle.\n
 \n
 Drop 
 in on Fridays and &quot;go green!&quot; Each 
 month, the MSU Broad Art Lab offers a sustainably 
 conscious project in collaboration with 
 Spartan Upcycle, the creative reuse branch 
 of the MSU Surplus Store &amp; Recycling Center. 
 We repurpose and re-imagine items that 
 might otherwise end up in a landfill with a creative 
 twist. Materials and instruction are 
 $5 for the general public and free for students 
 of any age. Pre-registration for this event 
 is encouraged. \n
 \n
 Held at the Art Lab, located 
 directly across the street from the museum 
 at 565 E Grand River Ave., East Lansing, MI 
 48823.\n
 \n
 \n\n
 Price: students: free, public: $5\n
 Sponsor: public\n
 Contact name: MSU Broad\n
 Contact phone: 5178844800\n
 Contact email: eebam@msu.edu\n
 for more info visit the web at:\n 
 https://broadmuseum.msu.edu/calendar/spartan-upcycle-fridays-20211217\n
LOCATION:MSU Broad Art Lab
END:VEVENT
END:VCALENDAR
