BEGIN:VCALENDAR
VERSION:2.0
METHOD:PUBLISH
PRODID:-//Virginia Tech//VT Calendar//EN
BEGIN:VEVENT
DTSTAMP:20211214T050000Z
UID:1638826323068-0009@events.msu.edu
CATEGORIES:Special Events
DTSTART;VALUE=DATE:20211214
DTEND;VALUE=DATE:20211215
SUMMARY:SSM and DSC Winter Supply Drive
DESCRIPTION:
 Spartan Street Medicine and Detroit Street Care 
 are collecting cosmetic bags, gloves, socks, 
 hand and foot warmers, chapstick, travel size 
 toiletries, underwear, sleeping bags and pads, 
 toys, stuffed animals and coloring books. 
  You may also donate to venmo @morganoneill123. 
  Each item will count as one TOUCH hour 
 with a maximum of three hours available. \n\n
 Price:  free\n
 Sponsor: Jessie Langmeyer\n
 Sponsor's Homepage: https://www.instagram.com/ssmatmsu/\n
 Contact name: Jessie Langmeyer\n
 Contact email: jessielangmeyer@gmail.com\n
 for more info visit the web at:\n 
 https://www.instagram.com/ssmatmsu/\n
LOCATION:Fee, DMC & MUC by boxes
END:VEVENT
END:VCALENDAR
